BEGIN:VCALENDAR
VERSION:2.0
PRODID:-//BRAVA Magazine - ECPv6.15.20//NONSGML v1.0//EN
CALSCALE:GREGORIAN
METHOD:PUBLISH
X-WR-CALNAME:BRAVA Magazine
X-ORIGINAL-URL:https://bravamagazine.com
X-WR-CALDESC:Events for BRAVA Magazine
REFRESH-INTERVAL;VALUE=DURATION:PT1H
X-Robots-Tag:noindex
X-PUBLISHED-TTL:PT1H
BEGIN:VTIMEZONE
TZID:UTC
BEGIN:STANDARD
TZOFFSETFROM:+0000
TZOFFSETTO:+0000
TZNAME:UTC
DTSTART:20240101T000000
END:STANDARD
END:VTIMEZONE
BEGIN:VEVENT
DTSTART;TZID=UTC:20250822T193000
DTEND;TZID=UTC:20250823T213000
DTSTAMP:20260419T103441
CREATED:20250604T003028Z
LAST-MODIFIED:20250822T181538Z
UID:61529-1755891000-1755984600@bravamagazine.com
SUMMARY:The Bridges of Madison County: A Musical
DESCRIPTION:Francesca Johnson\, a beautiful Italian woman who married an American soldier to flee war-ravaged Italy\, looks forward to a rare four days alone on her Iowa farm when her family heads to the 1965 State Fair. When ruggedly handsome\, National Geographic photographer\, Robert Kincaid\, pulls into her driveway seeking directions\, though\, what happens in those four days may very well alter the course of Francesca’s life. Based on the best-selling novel and nominated for several Tonys\, Bridges is a touching\, fiercely romantic\, and powerful testament to love and the question of “what if?” \nPerformed at the Play Circle in the Memorial Union. See www.mtmadison.com for info on parking and finding the theatre. \nAugust 15\, 16\, 21\, 22\, and 23 at 7:30pm\nAugust 17 at 2:00pm \nPresented by Music Theatre of Madison
URL:https://bravamagazine.com/event/the-bridges-of-madison-county-a-musical/
LOCATION:Fredric March Play Circle\, Wisconsin Memorial Union\, 800 Langdon Street\, Madison\, 53706\, United States
CATEGORIES:Community Event,Theater
ATTACH;FMTTYPE=image/jpeg:https://bravamagazine.com/wp-content/uploads/2025/06/The-Bridges-of-Madison-County-1.jpg
END:VEVENT
BEGIN:VEVENT
DTSTART;TZID=UTC:20250823T180000
DTEND;TZID=UTC:20250823T210000
DTSTAMP:20260419T103441
CREATED:20250523T175847Z
LAST-MODIFIED:20250822T181703Z
UID:57133-1755972000-1755982800@bravamagazine.com
SUMMARY:Dinner Detective Madison
DESCRIPTION:As North America’s largest interactive comedy true-crime murder mystery dinner theatre show\, solve a hilarious mystery while you feast on a fantastic dinner. Just beware! The culprit is hiding in plain sight somewhere in the room\, and you may find yourself as a Prime Suspect before you know it! Each ticket includes our signature award-winning show\, along with a full plated dinner\, waitstaff gratuity\, and plenty of surprises during the show!
URL:https://bravamagazine.com/event/dinner-detective-madison-5/
LOCATION:DoubleTree by Hilton Madison East\, 4402 E. Washington Ave\, Madison\, WI\, 53704\, United States
CATEGORIES:Community Event,Theater
ATTACH;FMTTYPE=image/jpeg:https://bravamagazine.com/wp-content/uploads/2025/05/DD-Detective-Image-1-3.jpg
END:VEVENT
END:VCALENDAR