BEGIN:VCALENDAR
VERSION:2.0
PRODID:-//BRAVA Magazine - ECPv6.15.20//NONSGML v1.0//EN
CALSCALE:GREGORIAN
METHOD:PUBLISH
X-ORIGINAL-URL:https://bravamagazine.com
X-WR-CALDESC:Events for BRAVA Magazine
REFRESH-INTERVAL;VALUE=DURATION:PT1H
X-Robots-Tag:noindex
X-PUBLISHED-TTL:PT1H
BEGIN:VTIMEZONE
TZID:UTC
BEGIN:STANDARD
TZOFFSETFROM:+0000
TZOFFSETTO:+0000
TZNAME:UTC
DTSTART:20240101T000000
END:STANDARD
END:VTIMEZONE
BEGIN:VEVENT
DTSTART;TZID=UTC:20250815T190000
DTEND;TZID=UTC:20250816T201500
DTSTAMP:20260419T103744
CREATED:20250801T204053Z
LAST-MODIFIED:20250822T175005Z
UID:80744-1755284400-1755375300@bravamagazine.com
SUMMARY:Anastasia\, Youth Edition
DESCRIPTION:STARLIGHT THEATER AT MYARTS \nEmbark on an epic adventure in this spectacular new musical about discovering who you are and defining who you’re meant to be.\nRun Time: 75 minutes + intermission \nFriends\, community and family – Join us for the culmination of this 3-week Starlight Series session –This performance will feature talented CTM kids from this session performing a full musical in the Starlight Theater at MYArts. \nIn this Starlight Series program\, students strengthen their musical theater skills through daily rotating workshops\, collaborate with a large ensemble of actors\, gain a deeper understanding of what goes into putting on a production\, and perform on our largest stage: the Starlight Theater at MYArts. \nTickets are Just $12! \nHappens on the following Dates:\nAug 15\, 2025\, 7:00pm to 8:15pm Timezone: CDT\nAug 16\, 2025\, 3:00pm to 4:15pm Timezone: CDT\nAug 16\, 2025\, 7:00pm to 8:15pm Timezone: CDT
URL:https://bravamagazine.com/event/anastasia-youth-edition/
LOCATION:Children’s Theater of Madison\, 1055 E Mifflin St\, Madison\, WI\, 53703\, United States
CATEGORIES:Theater
ATTACH;FMTTYPE=image/jpeg:https://bravamagazine.com/wp-content/uploads/2025/07/Anastasia.jpg
END:VEVENT
END:VCALENDAR