BEGIN:VCALENDAR
VERSION:2.0
PRODID:-//BRAVA Magazine - ECPv6.15.20//NONSGML v1.0//EN
CALSCALE:GREGORIAN
METHOD:PUBLISH
X-ORIGINAL-URL:https://bravamagazine.com
X-WR-CALDESC:Events for BRAVA Magazine
REFRESH-INTERVAL;VALUE=DURATION:PT1H
X-Robots-Tag:noindex
X-PUBLISHED-TTL:PT1H
BEGIN:VTIMEZONE
TZID:UTC
BEGIN:STANDARD
TZOFFSETFROM:+0000
TZOFFSETTO:+0000
TZNAME:UTC
DTSTART:20240101T000000
END:STANDARD
END:VTIMEZONE
BEGIN:VEVENT
DTSTART;TZID=UTC:20250808T140000
DTEND;TZID=UTC:20250810T211500
DTSTAMP:20260419T103717
CREATED:20250806T174605Z
LAST-MODIFIED:20250822T175005Z
UID:81294-1754661600-1754860500@bravamagazine.com
SUMMARY:Hadestown: Teen Edition
DESCRIPTION:GET TICKETS NOW! \nJoin us for the culmination of this 4-week Advanced Acting Academy Production! \nWelcome to Hadestown\, where a song can change your fate. This jazz-inflected folk opera won the Tony Award for Best Musical and took Broadway by storm! \nThis show will feature talented CTM high schoolers performing a two-hour-long musical with intermission in the Starlight Theater at MYArts. \nTickets are only $20! \nNote: This musical has mature themes. Recommended for ages 8+. \nHappens on the following Dates:\nAug 8\, 2025\, 7:00pm to 9:15pm Timezone: CDT\nAug 9\, 2025\, 2:00pm to 4:15pm Timezone: CDT\nAug 9\, 2025\, 7:00pm to 9:15pm Timezone: CDT\nAug 10\, 2025\, 2:00pm to 4:15pm Timezone: CDT
URL:https://bravamagazine.com/event/hadestown-teen-edition/
LOCATION:Starlight Theater at MYArts\, 1055 E Mifflin St\, Madison\, WI\, 53703\, United States
CATEGORIES:Theater
ATTACH;FMTTYPE=image/jpeg:https://bravamagazine.com/wp-content/uploads/2025/08/Hadestown.jpg
END:VEVENT
END:VCALENDAR