BEGIN:VCALENDAR
VERSION:2.0
PRODID:-//BRAVA Magazine - ECPv6.15.20//NONSGML v1.0//EN
CALSCALE:GREGORIAN
METHOD:PUBLISH
X-ORIGINAL-URL:https://bravamagazine.com
X-WR-CALDESC:Events for BRAVA Magazine
REFRESH-INTERVAL;VALUE=DURATION:PT1H
X-Robots-Tag:noindex
X-PUBLISHED-TTL:PT1H
BEGIN:VTIMEZONE
TZID:UTC
BEGIN:STANDARD
TZOFFSETFROM:+0000
TZOFFSETTO:+0000
TZNAME:UTC
DTSTART:20240101T000000
END:STANDARD
END:VTIMEZONE
BEGIN:VEVENT
DTSTART;TZID=UTC:20251005T141500
DTEND;TZID=UTC:20251005T163000
DTSTAMP:20260419T074147
CREATED:20250915T172511Z
LAST-MODIFIED:20250915T172511Z
UID:89654-1759673700-1759681800@bravamagazine.com
SUMMARY:MADISON BACH MUSICIANS - CLASSICAL SYMPHONIES
DESCRIPTION:SYMPHONIC THRILLS! PASTORAL SETTING! Madison Bach Musicians’ 22nd season opens on October 4 & 5 presenting a program of symphonic masterworks by Joseph Haydn\, Luigi Boccherini\, and Carl Philipp Emanuel Bach — “Classical Symphonies” — evoking an emotional range from “Storm & Stress” to “Sunny Lyricism” to “the Daring Turn.” Led by internationally renowned violinist and guest director Marc Destrubé\, MBM will field a complete Classical-period chamber orchestra: violins\, violas\, cellos\, and bass (strung with gut and played with period bows)\, harpsichord continuo\, Classical oboes\, and natural valveless horns (from the hunt to the concert hall!). Don’t miss the pre-concert lecture. Learn more and purchase in-person and/or on-demand tickets at https://madisonbachmusicians.org/classical-symphonies/
URL:https://bravamagazine.com/event/madison-bach-musicians-classical-symphonies/
LOCATION:Holy Wisdom Monastery\, 4200 County Road M\, MIddleton\, WI\, 53562\, United States
CATEGORIES:Live Music
ATTACH;FMTTYPE=image/jpeg:https://bravamagazine.com/wp-content/uploads/2025/09/MBM-Classical-Symphonies-jpg-1.jpg
END:VEVENT
END:VCALENDAR