BEGIN:VCALENDAR
VERSION:2.0
PRODID:-//BRAVA Magazine - ECPv6.15.20//NONSGML v1.0//EN
CALSCALE:GREGORIAN
METHOD:PUBLISH
X-ORIGINAL-URL:https://bravamagazine.com
X-WR-CALDESC:Events for BRAVA Magazine
REFRESH-INTERVAL;VALUE=DURATION:PT1H
X-Robots-Tag:noindex
X-PUBLISHED-TTL:PT1H
BEGIN:VTIMEZONE
TZID:UTC
BEGIN:STANDARD
TZOFFSETFROM:+0000
TZOFFSETTO:+0000
TZNAME:UTC
DTSTART:20240101T000000
END:STANDARD
END:VTIMEZONE
BEGIN:VEVENT
DTSTART;TZID=UTC:20250921T090000
DTEND;TZID=UTC:20250921T170000
DTSTAMP:20260419T090615
CREATED:20250603T174229Z
LAST-MODIFIED:20250603T174229Z
UID:59356-1758445200-1758474000@bravamagazine.com
SUMMARY:Bike the Barns
DESCRIPTION:Bike the Barns is a fun full-day event combining cycling\, local food\, and area farms to create an unforgettable full day food & farming adventure! Riders travel a scenic country ride just outside Madison\, stopping at local farms to enjoy fresh food\, live music\, and one-of-a-kind farm experiences. \nBut Bike the Barns is about more than just the ride – it’s about supporting local farmers and making fresh food accessible to all. Bike the Barns is FairShare’s largest fundraiser\, supporting our work and the Partner Shares Program\, which helps low-income households enjoy farm-fresh veggies.
URL:https://bravamagazine.com/event/bike-the-barns-2/
LOCATION:Lake Farm County Park\, 4330 Libby Road \, Madison\, 53711\, United States
CATEGORIES:Community Event,Live Music
ATTACH;FMTTYPE=image/jpeg:https://bravamagazine.com/wp-content/uploads/2025/06/Untitled-design-3.jpg
ORGANIZER;CN="FairShare CSA Coalition":MAILTO:bikethebarns@csacoalition.org
END:VEVENT
END:VCALENDAR