BEGIN:VCALENDAR
VERSION:2.0
PRODID:-//BRAVA Magazine - ECPv6.15.20//NONSGML v1.0//EN
CALSCALE:GREGORIAN
METHOD:PUBLISH
X-WR-CALNAME:BRAVA Magazine
X-ORIGINAL-URL:https://bravamagazine.com
X-WR-CALDESC:Events for BRAVA Magazine
REFRESH-INTERVAL;VALUE=DURATION:PT1H
X-Robots-Tag:noindex
X-PUBLISHED-TTL:PT1H
BEGIN:VTIMEZONE
TZID:UTC
BEGIN:STANDARD
TZOFFSETFROM:+0000
TZOFFSETTO:+0000
TZNAME:UTC
DTSTART:20240101T000000
END:STANDARD
END:VTIMEZONE
BEGIN:VEVENT
DTSTART;TZID=UTC:20250919T190000
DTEND;TZID=UTC:20250919T233000
DTSTAMP:20260419T090334
CREATED:20250411T000444Z
LAST-MODIFIED:20250411T000444Z
UID:53514-1758308400-1758324600@bravamagazine.com
SUMMARY:Rhumba 4 Rainbow Benefit Gala
DESCRIPTION:The Rainbow Project is grateful to be celebrating 45 years of serving the community and 21 years of the Rhumba 4 Rainbow benefit gala in 2025! Rhumba 4 Rainbow is a family- and community-oriented event that brings joy\, hope\, and unity to attendees\, supporters\, donors\, and beneficiaries alike. The night features a wide array of unique activities\, including a professional Latin floorshow with world-renowned Salsa dancers; local Dancing with the Stars competition; open Salsa contest with cash prizes; a large silent auction; Extra Mile Awards; live music; fashion contests\, and more!
URL:https://bravamagazine.com/event/rhumba-4-rainbow-benefit-gala/
LOCATION:Monona Terrace and Convention Center\, 1 John Nolen Drive\, Madison\, WI\, 53703\, United States
CATEGORIES:Community Event,Kid-Friendly Event,Live Music
ATTACH;FMTTYPE=image/jpeg:https://bravamagazine.com/wp-content/uploads/2025/04/R4R-Banner.jpg
ORGANIZER;CN="The Rainbow Project%2C Inc.":MAILTO:rhumba@therainbowproject.net
END:VEVENT
BEGIN:VEVENT
DTSTART;TZID=UTC:20250919T190000
DTEND;TZID=UTC:20250919T233000
DTSTAMP:20260419T090334
CREATED:20250812T181054Z
LAST-MODIFIED:20250812T181054Z
UID:81460-1758308400-1758324600@bravamagazine.com
SUMMARY:Rhumba 4 Rainbow
DESCRIPTION:Two celebrations\, one event! The Rainbow Project is grateful to be celebrating 45 years of serving the community and 21 years of the Rhumba 4 Rainbow benefit gala in 2025! \nRhumba 4 Rainbow is a family- and community-oriented event that brings joy\, hope\, and unity to attendees\, supporters\, donors\, and beneficiaries alike. The night features a wide array of unique activities\, including a live professional Latin floor show featuring performances by Gio & Gaby Ochoa\, Salsabrositas\, & Barrio Dance\, local celebrity dance challenge\, open Salsa dance contest\, silent auction\, live music by Colon y Mas\, fashion contest\, and Extra Mile Awards for those who go above and beyond for children & families in our community. \nHelp children conquer their fears by supporting this year’s event! Everyone can play a crucial role in our mission to help young children and families thrive after traumatic events by attending the event\, donating\, volunteering\, or spreading the word about this unique fundraiser. \nTogether\, we can create a lasting impact in our community. We look forward to celebrating these momentous occasions with the community these year. \nSponsor tables available until Friday\, August 22nd and online individual tickets available until Wednesday\, September 17th!
URL:https://bravamagazine.com/event/rhumba-4-rainbow/
LOCATION:Monona Terrace\, 1 John Nolen Dr\, Madison\, WI\, 53703\, United States
CATEGORIES:Community Event,Live Music
ATTACH;FMTTYPE=image/jpeg:https://bravamagazine.com/wp-content/uploads/2025/08/R4R-Event-Page-cover-photo.jpg
ORGANIZER;CN="The Rainbow Project%2C Inc.":MAILTO:rhumba@therainbowproject.net
END:VEVENT
END:VCALENDAR