BEGIN:VCALENDAR
VERSION:2.0
PRODID:-//BRAVA Magazine - ECPv6.15.20//NONSGML v1.0//EN
CALSCALE:GREGORIAN
METHOD:PUBLISH
X-ORIGINAL-URL:https://bravamagazine.com
X-WR-CALDESC:Events for BRAVA Magazine
REFRESH-INTERVAL;VALUE=DURATION:PT1H
X-Robots-Tag:noindex
X-PUBLISHED-TTL:PT1H
BEGIN:VTIMEZONE
TZID:UTC
BEGIN:STANDARD
TZOFFSETFROM:+0000
TZOFFSETTO:+0000
TZNAME:UTC
DTSTART:20240101T000000
END:STANDARD
END:VTIMEZONE
BEGIN:VEVENT
DTSTART;TZID=UTC:20250820T163000
DTEND;TZID=UTC:20250820T180000
DTSTAMP:20260419T104837
CREATED:20250618T223818Z
LAST-MODIFIED:20250618T223818Z
UID:79660-1755707400-1755712800@bravamagazine.com
SUMMARY:Live @ Lake Vista: Mark Croft Duo (Singer Songwriter)
DESCRIPTION:Join us at Lake Vista Café on the rooftop overlooking lovely Lake Monona for live music in a relaxed atmosphere. \nMark Croft is a multi-award-winning singer/songwriter and acoustic guitarist who has always been unafraid to break the genre barriers. Croft takes inspiration from a variety of musical styles and blends them into his own Roots\, Rock & Americana-based approach to songwriting\, infusing soulful performances with infectious rhythms and unforgettable melodies. He is joined by violinist extraordinaire and long-time sideman\, Jon Vriesacker\, who also shares his talents on mandolins & electric guitar. \nFree & Open to the Public \nLake Vista Café will have a menu featuring delicious fare and drinks for purchase until 7 p.m.\, including buy one get one free appetizer from 4 – 6 p.m. \nIf the weather is inclement\, the performance will be canceled.
URL:https://bravamagazine.com/event/live-lake-vista-mark-croft-duo-singer-songwriter/
LOCATION:Monona Terrace Community & Convention Center\, 1 John Nolen Drive\, Madison\, WI\, 53705\, Select a Country:
CATEGORIES:Live Music
ATTACH;FMTTYPE=image/jpeg:https://bravamagazine.com/wp-content/uploads/2025/06/Live-at-Lake-VistaDM5.jpg
ORGANIZER;CN="Monona Terrace Community and Convention Center":MAILTO:fpuleo@mononaterrace.com
END:VEVENT
END:VCALENDAR