BEGIN:VCALENDAR
VERSION:2.0
PRODID:-//BRAVA Magazine - ECPv6.15.20//NONSGML v1.0//EN
CALSCALE:GREGORIAN
METHOD:PUBLISH
X-ORIGINAL-URL:https://bravamagazine.com
X-WR-CALDESC:Events for BRAVA Magazine
REFRESH-INTERVAL;VALUE=DURATION:PT1H
X-Robots-Tag:noindex
X-PUBLISHED-TTL:PT1H
BEGIN:VTIMEZONE
TZID:UTC
BEGIN:STANDARD
TZOFFSETFROM:+0000
TZOFFSETTO:+0000
TZNAME:UTC
DTSTART:20240101T000000
END:STANDARD
END:VTIMEZONE
BEGIN:VEVENT
DTSTART;TZID=UTC:20250816T100000
DTEND;TZID=UTC:20250816T170000
DTSTAMP:20260419T103852
CREATED:20250417T021254Z
LAST-MODIFIED:20250417T021254Z
UID:53639-1755338400-1755363600@bravamagazine.com
SUMMARY:Agora Art Fair 2025
DESCRIPTION:Over 100 Wisconsin artists will be showcased in the 17th Annual Agora Art Fair set amid the stunning architecture of Agora and the natural prairie landscape of southern Wisconsin. Local and regional artists in every medium will be featured\, including painting\, ceramics\, jewelry\, photography\, glass\, metals\, woodwork\, mixed media\, fiber\, and sculpture. \nThe event will feature live music throughout the day\, local food carts\, a Wisconsin craft brew and wine garden\, hands-on art activities\, and the popular “Art In The Wind” kite exhibit!
URL:https://bravamagazine.com/event/agora-art-fair-2025/
LOCATION:Agora Fitchburg\, 5500 E Cheryl Parkway\, Fitchburg\, WI\, 53711\, United States
CATEGORIES:Community Event,Kid-Friendly Event,Live Music
ATTACH;FMTTYPE=image/jpeg:https://bravamagazine.com/wp-content/uploads/2025/04/481670782_1033517685480949_4688421305804456911_n.jpg
END:VEVENT
END:VCALENDAR