BEGIN:VCALENDAR
VERSION:2.0
PRODID:-//BRAVA Magazine - ECPv6.15.20//NONSGML v1.0//EN
CALSCALE:GREGORIAN
METHOD:PUBLISH
X-WR-CALNAME:BRAVA Magazine
X-ORIGINAL-URL:https://bravamagazine.com
X-WR-CALDESC:Events for BRAVA Magazine
REFRESH-INTERVAL;VALUE=DURATION:PT1H
X-Robots-Tag:noindex
X-PUBLISHED-TTL:PT1H
BEGIN:VTIMEZONE
TZID:UTC
BEGIN:STANDARD
TZOFFSETFROM:+0000
TZOFFSETTO:+0000
TZNAME:UTC
DTSTART:20240101T000000
END:STANDARD
END:VTIMEZONE
BEGIN:VEVENT
DTSTART;TZID=UTC:20250806T163000
DTEND;TZID=UTC:20250806T180000
DTSTAMP:20260419T104724
CREATED:20250618T223927Z
LAST-MODIFIED:20250618T223927Z
UID:79655-1754497800-1754503200@bravamagazine.com
SUMMARY:Live @ Lake Vista: Louka (Singer Songwriter/Guitarist)
DESCRIPTION:Join us at Lake Vista Café on the rooftop overlooking lovely Lake Monona for live music in a relaxed atmosphere. \nLouka Patenaude is a veteran of the Madison music scene and is a performing guitarist\, teacher\, songwriter and composer. His music is grounded in acoustic roots with influences from jazz\, classical and old world Mediterranean traditional music. An award-winning musician\, Louka’s performed on stage with the Madison Symphony Orchestra\, Wisconsin Chamber Orchestra\, and many notable jazz artists. \nFree & Open to the Public \nLake Vista Café will have a menu featuring delicious fare and drinks for purchase until 7 p.m.\, including buy one get one free appetizer from 4 – 6 p.m. \nIf the weather is inclement\, the performance will be canceled.
URL:https://bravamagazine.com/event/live-lake-vista-louka-singer-songwriter-guitarist/
LOCATION:Monona Terrace Community & Convention Center\, 1 John Nolen Drive\, Madison\, WI\, 53705\, Select a Country:
CATEGORIES:Live Music
ATTACH;FMTTYPE=image/jpeg:https://bravamagazine.com/wp-content/uploads/2025/06/Live-at-Lake-VistaDM4-1.jpg
ORGANIZER;CN="Monona Terrace Community and Convention Center":MAILTO:fpuleo@mononaterrace.com
END:VEVENT
END:VCALENDAR