BEGIN:VCALENDAR
VERSION:2.0
PRODID:-//BRAVA Magazine - ECPv6.15.20//NONSGML v1.0//EN
CALSCALE:GREGORIAN
METHOD:PUBLISH
X-WR-CALNAME:BRAVA Magazine
X-ORIGINAL-URL:https://bravamagazine.com
X-WR-CALDESC:Events for BRAVA Magazine
REFRESH-INTERVAL;VALUE=DURATION:PT1H
X-Robots-Tag:noindex
X-PUBLISHED-TTL:PT1H
BEGIN:VTIMEZONE
TZID:UTC
BEGIN:STANDARD
TZOFFSETFROM:+0000
TZOFFSETTO:+0000
TZNAME:UTC
DTSTART:20240101T000000
END:STANDARD
END:VTIMEZONE
BEGIN:VEVENT
DTSTART;TZID=UTC:20250723T163000
DTEND;TZID=UTC:20250723T180000
DTSTAMP:20260419T123147
CREATED:20250618T223909Z
LAST-MODIFIED:20250618T223915Z
UID:79643-1753288200-1753293600@bravamagazine.com
SUMMARY:Live @ Lake Vista: carisa (Folk/Jazz/Bedroom Cafe)
DESCRIPTION:Join us at Lake Vista Café on the rooftop overlooking lovely Lake Monona for live music in a relaxed atmosphere. \ncarisa’s music is best categorized as bedroom cafe. It hints at some of her influences\, primarily bossa nova\, folk\, and jazz. Her lyrics are often straight from the pages of her journal and are always autobiographical in some way. \nFree & Open to the Public \nLake Vista Café will have a menu featuring delicious fare and drinks for purchase until 7 p.m.\, including buy one get one free appetizer from 4 – 6 p.m. \nIf the weather is inclement\, the performance will be canceled.
URL:https://bravamagazine.com/event/live-lake-vista-carisa-folk-jazz-bedroom-cafe/
LOCATION:Monona Terrace Community & Convention Center\, 1 John Nolen Drive\, Madison\, WI\, 53705\, Select a Country:
CATEGORIES:Live Music
ATTACH;FMTTYPE=image/jpeg:https://bravamagazine.com/wp-content/uploads/2025/06/Live-at-Lake-VistaDM3-2.jpg
ORGANIZER;CN="Monona Terrace Community and Convention Center":MAILTO:fpuleo@mononaterrace.com
END:VEVENT
END:VCALENDAR