BEGIN:VCALENDAR
VERSION:2.0
PRODID:-//BRAVA Magazine - ECPv6.15.20//NONSGML v1.0//EN
CALSCALE:GREGORIAN
METHOD:PUBLISH
X-WR-CALNAME:BRAVA Magazine
X-ORIGINAL-URL:https://bravamagazine.com
X-WR-CALDESC:Events for BRAVA Magazine
REFRESH-INTERVAL;VALUE=DURATION:PT1H
X-Robots-Tag:noindex
X-PUBLISHED-TTL:PT1H
BEGIN:VTIMEZONE
TZID:UTC
BEGIN:STANDARD
TZOFFSETFROM:+0000
TZOFFSETTO:+0000
TZNAME:UTC
DTSTART:20240101T000000
END:STANDARD
END:VTIMEZONE
BEGIN:VEVENT
DTSTART;TZID=UTC:20250619T110000
DTEND;TZID=UTC:20250622T230000
DTSTAMP:20260419T140412
CREATED:20250603T214649Z
LAST-MODIFIED:20250603T214649Z
UID:61374-1750330800-1750633200@bravamagazine.com
SUMMARY:The Sessions at Garver Feed Mill
DESCRIPTION:Sessions at Garver: 4-Day Free Music Festival \nFrom June 19–22\, Garver Feed Mill turns up the volume for Sessions at Garver\, a FREE four-day music festival celebrating local and regional talent across genres. \nThis high-energy event transforms Garver into a hub of music\, community\, and summertime soul. With multiple performances daily\, guests can expect an eclectic mix of sounds—from indie and folk to funk\, rock\, and beyond. \nBut Sessions is more than just music. Festival-goers can explore a flea market\, feast at rotating food trucks\, grab a cold drink\, and even check out an EV night car showcase. Whether you swing by for a single set or soak in the entire weekend\, there’s something for everyone. \nMark your calendars and bring your friends! Free admission. All ages welcome. \nLearn more about Sessions and see the full lineup here: https://sessionsatmcpike.org/
URL:https://bravamagazine.com/event/the-sessions-at-garver-feed-mill/
LOCATION:Garver Feed Mill\, 3241 Garver Green\, Madison\, WI\, 53407\, United States
CATEGORIES:Live Music
ATTACH;FMTTYPE=image/jpeg:https://bravamagazine.com/wp-content/uploads/2025/06/DM_Sessions_Cover_Photo-1400-x-1000-px.jpg
END:VEVENT
BEGIN:VEVENT
DTSTART;TZID=UTC:20250620T210000
DTEND;TZID=UTC:20250620T230000
DTSTAMP:20260419T140412
CREATED:20250603T220054Z
LAST-MODIFIED:20250603T220054Z
UID:61400-1750453200-1750460400@bravamagazine.com
SUMMARY:The Sessions ft. Iris DeMent
DESCRIPTION:Sessions at Garver Feed Mill brings Iris DeMent’s unique voice to the Garver Atrium on June 20\, 2025. \nDeMent is widely regarded as one of America’s greatest singer-songwriters and a passionate advocate for human rights. Her voice and timeless melodies draw from hymns\, gospel\, and classic country\, while her lyrics are rich with humor\, insight\, and tenderness. \nHer latest album\, Workin’ On A World\, marks her seventh release. In this hopeful record\, DeMent tackles themes of social justice\, gun control\, politics\, aging\, and loss\, offering her signature blend of compassion and a deep belief in music as a source of healing. \nGeneral admission seating opens at 8pm with show at 9pm. \n$25 in advance (available until 2 hours before the show)\n$30 at the door
URL:https://bravamagazine.com/event/the-sessions-ft-iris-dement/
LOCATION:Garver Feed Mill\, 3241 Garver Green\, Madison\, WI\, 53407\, United States
CATEGORIES:Live Music
ATTACH;FMTTYPE=image/jpeg:https://bravamagazine.com/wp-content/uploads/2025/06/DM_Sessions_Cover_Photo-1400-x-1000-px_iris_dement.jpg
END:VEVENT
END:VCALENDAR