BEGIN:VCALENDAR
VERSION:2.0
PRODID:-//BRAVA Magazine - ECPv6.15.20//NONSGML v1.0//EN
CALSCALE:GREGORIAN
METHOD:PUBLISH
X-ORIGINAL-URL:https://bravamagazine.com
X-WR-CALDESC:Events for BRAVA Magazine
REFRESH-INTERVAL;VALUE=DURATION:PT1H
X-Robots-Tag:noindex
X-PUBLISHED-TTL:PT1H
BEGIN:VTIMEZONE
TZID:UTC
BEGIN:STANDARD
TZOFFSETFROM:+0000
TZOFFSETTO:+0000
TZNAME:UTC
DTSTART:20240101T000000
END:STANDARD
END:VTIMEZONE
BEGIN:VEVENT
DTSTART;TZID=UTC:20250526T110000
DTEND;TZID=UTC:20250526T170000
DTSTAMP:20260419T140754
CREATED:20250411T185543Z
LAST-MODIFIED:20250411T185543Z
UID:53548-1748257200-1748278800@bravamagazine.com
SUMMARY:Memorial Day Post Parade Family Festival & Tiki Bar Grand Opening
DESCRIPTION:Join us for live music & cold drinks \nThe Jimmys start at 1:00 PM \nTiki Grill provided by the American Legion Post 501 \nCover charge $5
URL:https://bravamagazine.com/event/memorial-day-post-parade-family-festival-tiki-bar-grand-opening/
LOCATION:East Side Club\, 3735 Monona Drive\, Madison\, WI\, 53714\, United States
CATEGORIES:Live Music
ATTACH;FMTTYPE=image/jpeg:https://bravamagazine.com/wp-content/uploads/2025/04/download-24.jpg
END:VEVENT
END:VCALENDAR