BEGIN:VCALENDAR
VERSION:2.0
PRODID:-//BRAVA Magazine - ECPv6.15.20//NONSGML v1.0//EN
CALSCALE:GREGORIAN
METHOD:PUBLISH
X-WR-CALNAME:BRAVA Magazine
X-ORIGINAL-URL:https://bravamagazine.com
X-WR-CALDESC:Events for BRAVA Magazine
REFRESH-INTERVAL;VALUE=DURATION:PT1H
X-Robots-Tag:noindex
X-PUBLISHED-TTL:PT1H
BEGIN:VTIMEZONE
TZID:UTC
BEGIN:STANDARD
TZOFFSETFROM:+0000
TZOFFSETTO:+0000
TZNAME:UTC
DTSTART:20240101T000000
END:STANDARD
END:VTIMEZONE
BEGIN:VEVENT
DTSTART;TZID=UTC:20250905T170000
DTEND;TZID=UTC:20250905T200000
DTSTAMP:20260419T072410
CREATED:20250815T175802Z
LAST-MODIFIED:20250815T180235Z
UID:86579-1757091600-1757102400@bravamagazine.com
SUMMARY:Live from the Wonderground: Shakey – A Neil Young Tribute Band
DESCRIPTION:Every month\, enjoy free concerts at MCM featuring an eclectic mix of Madison bands. Adults get to dance and chat\, kids climb and play\, and caregivers enjoy low-stress social time in an outdoor space like no other! \nOn Friday\, 9/5 from 5-8pm\, we’re welcoming Shakey\, a Neil Young tribute band that captures the essence of Neil Young’s music and style. Be sure to grab a tasty street taco or pupusa from Mexsal and a delicious dessert from Stellie’s Ice Cream cart — both for-purchase in the Wonderground. \nLive from the Wonderground admission is free! You may choose to provide a donation at the door\, but no entry fee is required. Proceeds benefit the work of Madison Children’s Museum and allow us to bring accessible programming to our community. All tickets are at the door\, no advance registration. Please enter at the Wonderground gate on E. Dayton Street\, by the Log Cabin.
URL:https://bravamagazine.com/event/live-from-the-wonderground-shakey-a-neil-young-tribute-band/
LOCATION:Madison Children’s Museum\, 100 N Hamilton St\, Madison\, WI\, 53703-2116\, United States
CATEGORIES:Live Music
ATTACH;FMTTYPE=image/jpeg:https://bravamagazine.com/wp-content/uploads/2025/08/1.jpg
END:VEVENT
BEGIN:VEVENT
DTSTART;TZID=UTC:20250906T183000
DTEND;TZID=UTC:20250906T200000
DTSTAMP:20260419T072410
CREATED:20250801T204557Z
LAST-MODIFIED:20250801T204557Z
UID:81072-1757183400-1757188800@bravamagazine.com
SUMMARY:Music is Architecture Thawed: Ben and Leo Sidran
DESCRIPTION:Form\, structure\, improvisation and chaos in jazz. Ben and Leo Sidran in concert and conversation. If\, as Goethe wrote\, architecture can be seen as frozen music\, perhaps music can be seen as architecture thawed.  \nJoin father and son Ben and Leo Sidran\, at the iconic Hillside Theater at Taliesin\, as they discuss what this might mean\, and put it into practice on stage.
URL:https://bravamagazine.com/event/music-is-architecture-thawed-ben-and-leo-sidran/
LOCATION:Hillside Theater\, 6604 State Highway 23 Trunk\, Spring Green\, WI\, 53588\, United States
CATEGORIES:Community Event,Live Music
ATTACH;FMTTYPE=image/jpeg:https://bravamagazine.com/wp-content/uploads/2025/07/sidrans-3-1.jpg
ORGANIZER;CN="Taliesin Preservation":MAILTO:enews@taliesinpreservation.org
END:VEVENT
BEGIN:VEVENT
DTSTART;TZID=UTC:20250913T100000
DTEND;TZID=UTC:20250913T170000
DTSTAMP:20260419T072410
CREATED:20250801T204053Z
LAST-MODIFIED:20250801T204053Z
UID:80726-1757757600-1757782800@bravamagazine.com
SUMMARY:Monroe Street Festival
DESCRIPTION:The 47th Monroe Street Festival will take place on Saturday\, September 13 from 10:00 to 5:00 in the 1600 – 2600 blocks of Monroe Street. The Monroe Street Festival is a cherished annual tradition celebrating Monroe Street’s many locally owned businesses and our surrounding residential neighborhoods. The day-long event features a range of activities including street sales\, food and drink specials\, free outdoor performances\, kids music and games\, a bargain book sale at the Monroe Street Library\, and so much more. Activities are held rain or shine\, and take place in the businesses\, on the street or sidewalks\, at Monroe Commons by Trader Joe’s\, and in the parking lot of Chocolate Shoppe Ice Cream. For more information\, see https://www.monroestreetmadison.com/monroestreetfestival
URL:https://bravamagazine.com/event/monroe-street-festival-2/
LOCATION:Monroe Street\, 1500-3500 Blocks\, Madison\, 53711\, United States
CATEGORIES:Community Event,Kid-Friendly Event,Live Music
ATTACH;FMTTYPE=image/png:https://bravamagazine.com/wp-content/uploads/2025/07/Monroe-Street-Fest-WebBanner-2025.png
ORGANIZER;CN="Monroe Street Merchants Association":MAILTO:orangetreeimports@mac.com
END:VEVENT
BEGIN:VEVENT
DTSTART;TZID=UTC:20250919T190000
DTEND;TZID=UTC:20250919T233000
DTSTAMP:20260419T072410
CREATED:20250411T000444Z
LAST-MODIFIED:20250411T000444Z
UID:53514-1758308400-1758324600@bravamagazine.com
SUMMARY:Rhumba 4 Rainbow Benefit Gala
DESCRIPTION:The Rainbow Project is grateful to be celebrating 45 years of serving the community and 21 years of the Rhumba 4 Rainbow benefit gala in 2025! Rhumba 4 Rainbow is a family- and community-oriented event that brings joy\, hope\, and unity to attendees\, supporters\, donors\, and beneficiaries alike. The night features a wide array of unique activities\, including a professional Latin floorshow with world-renowned Salsa dancers; local Dancing with the Stars competition; open Salsa contest with cash prizes; a large silent auction; Extra Mile Awards; live music; fashion contests\, and more!
URL:https://bravamagazine.com/event/rhumba-4-rainbow-benefit-gala/
LOCATION:Monona Terrace and Convention Center\, 1 John Nolen Drive\, Madison\, WI\, 53703\, United States
CATEGORIES:Community Event,Kid-Friendly Event,Live Music
ATTACH;FMTTYPE=image/jpeg:https://bravamagazine.com/wp-content/uploads/2025/04/R4R-Banner.jpg
ORGANIZER;CN="The Rainbow Project%2C Inc.":MAILTO:rhumba@therainbowproject.net
END:VEVENT
BEGIN:VEVENT
DTSTART;TZID=UTC:20250919T190000
DTEND;TZID=UTC:20250919T233000
DTSTAMP:20260419T072410
CREATED:20250812T181054Z
LAST-MODIFIED:20250812T181054Z
UID:81460-1758308400-1758324600@bravamagazine.com
SUMMARY:Rhumba 4 Rainbow
DESCRIPTION:Two celebrations\, one event! The Rainbow Project is grateful to be celebrating 45 years of serving the community and 21 years of the Rhumba 4 Rainbow benefit gala in 2025! \nRhumba 4 Rainbow is a family- and community-oriented event that brings joy\, hope\, and unity to attendees\, supporters\, donors\, and beneficiaries alike. The night features a wide array of unique activities\, including a live professional Latin floor show featuring performances by Gio & Gaby Ochoa\, Salsabrositas\, & Barrio Dance\, local celebrity dance challenge\, open Salsa dance contest\, silent auction\, live music by Colon y Mas\, fashion contest\, and Extra Mile Awards for those who go above and beyond for children & families in our community. \nHelp children conquer their fears by supporting this year’s event! Everyone can play a crucial role in our mission to help young children and families thrive after traumatic events by attending the event\, donating\, volunteering\, or spreading the word about this unique fundraiser. \nTogether\, we can create a lasting impact in our community. We look forward to celebrating these momentous occasions with the community these year. \nSponsor tables available until Friday\, August 22nd and online individual tickets available until Wednesday\, September 17th!
URL:https://bravamagazine.com/event/rhumba-4-rainbow/
LOCATION:Monona Terrace\, 1 John Nolen Dr\, Madison\, WI\, 53703\, United States
CATEGORIES:Community Event,Live Music
ATTACH;FMTTYPE=image/jpeg:https://bravamagazine.com/wp-content/uploads/2025/08/R4R-Event-Page-cover-photo.jpg
ORGANIZER;CN="The Rainbow Project%2C Inc.":MAILTO:rhumba@therainbowproject.net
END:VEVENT
BEGIN:VEVENT
DTSTART;TZID=UTC:20250921T090000
DTEND;TZID=UTC:20250921T170000
DTSTAMP:20260419T072410
CREATED:20250603T174229Z
LAST-MODIFIED:20250603T174229Z
UID:59356-1758445200-1758474000@bravamagazine.com
SUMMARY:Bike the Barns
DESCRIPTION:Bike the Barns is a fun full-day event combining cycling\, local food\, and area farms to create an unforgettable full day food & farming adventure! Riders travel a scenic country ride just outside Madison\, stopping at local farms to enjoy fresh food\, live music\, and one-of-a-kind farm experiences. \nBut Bike the Barns is about more than just the ride – it’s about supporting local farmers and making fresh food accessible to all. Bike the Barns is FairShare’s largest fundraiser\, supporting our work and the Partner Shares Program\, which helps low-income households enjoy farm-fresh veggies.
URL:https://bravamagazine.com/event/bike-the-barns-2/
LOCATION:Lake Farm County Park\, 4330 Libby Road \, Madison\, 53711\, United States
CATEGORIES:Community Event,Live Music
ATTACH;FMTTYPE=image/jpeg:https://bravamagazine.com/wp-content/uploads/2025/06/Untitled-design-3.jpg
ORGANIZER;CN="FairShare CSA Coalition":MAILTO:bikethebarns@csacoalition.org
END:VEVENT
BEGIN:VEVENT
DTSTART;TZID=UTC:20250926T160000
DTEND;TZID=UTC:20250926T230000
DTSTAMP:20260419T072410
CREATED:20250922T200743Z
LAST-MODIFIED:20250922T200743Z
UID:91560-1758902400-1758927600@bravamagazine.com
SUMMARY:Verona Fall Fest
DESCRIPTION:Verona Fall Fest – Presented by Verona Vision Care\nCelebrate autumn at Verona’s Fall Fest\, recently ranked the #7 Best Fall Festival in the U.S. by USA Today! Enjoy Food Truck Alley\, the Fall Marketplace\, Kid’s Tent activities\, live music from Just Merl and a Girl\, a beer tent\, bonfires\, and two outdoor movies—Ghostbusters at 7 PM and The Lost Boys at 9 PM. Fun for all ages with something for everyone! \n📅 Friday\, September 26 | 4–11 PM\n📍 Hometown USA Festival Park\, Verona\, WI
URL:https://bravamagazine.com/event/verona-fall-fest/
LOCATION:Hometown USA Festival Park\, 111 Lincoln St\, Verona\, WI\, 53593\, United States
CATEGORIES:Community Event,Kid-Friendly Event,Live Music
ATTACH;FMTTYPE=image/jpeg:https://bravamagazine.com/wp-content/uploads/2025/09/september-26-2025.jpg
ORGANIZER;CN="Verona Area Chamber of Commerce":MAILTO:info@veronawi.com
END:VEVENT
END:VCALENDAR