BEGIN:VCALENDAR
VERSION:2.0
PRODID:-//BRAVA Magazine - ECPv6.15.20//NONSGML v1.0//EN
CALSCALE:GREGORIAN
METHOD:PUBLISH
X-WR-CALNAME:BRAVA Magazine
X-ORIGINAL-URL:https://bravamagazine.com
X-WR-CALDESC:Events for BRAVA Magazine
REFRESH-INTERVAL;VALUE=DURATION:PT1H
X-Robots-Tag:noindex
X-PUBLISHED-TTL:PT1H
BEGIN:VTIMEZONE
TZID:America/Chicago
BEGIN:DAYLIGHT
TZOFFSETFROM:-0600
TZOFFSETTO:-0500
TZNAME:CDT
DTSTART:20250309T080000
END:DAYLIGHT
BEGIN:STANDARD
TZOFFSETFROM:-0500
TZOFFSETTO:-0600
TZNAME:CST
DTSTART:20251102T070000
END:STANDARD
BEGIN:DAYLIGHT
TZOFFSETFROM:-0600
TZOFFSETTO:-0500
TZNAME:CDT
DTSTART:20260308T080000
END:DAYLIGHT
BEGIN:STANDARD
TZOFFSETFROM:-0500
TZOFFSETTO:-0600
TZNAME:CST
DTSTART:20261101T070000
END:STANDARD
BEGIN:DAYLIGHT
TZOFFSETFROM:-0600
TZOFFSETTO:-0500
TZNAME:CDT
DTSTART:20270314T080000
END:DAYLIGHT
BEGIN:STANDARD
TZOFFSETFROM:-0500
TZOFFSETTO:-0600
TZNAME:CST
DTSTART:20271107T070000
END:STANDARD
END:VTIMEZONE
BEGIN:VEVENT
DTSTART;TZID=America/Chicago:20260406T170000
DTEND;TZID=America/Chicago:20260427T190000
DTSTAMP:20260423T015932
CREATED:20260401T212252Z
LAST-MODIFIED:20260401T212252Z
UID:203345-1775494800-1777316400@bravamagazine.com
SUMMARY:Piano Fondue's Monday Happy Hour Singalong
DESCRIPTION:Join us for Piano Fondue Singalong Happy Hour every Monday in April from 5–7 PM in the Garver Lounge!\nSing along to your favorite hits with live piano\, enjoy a lively atmosphere\, and kick off your week on a high note.\n✨ Full dinner menu available\n🍹 Drink specials all evening\n🎤 All are welcome—no singing experience required!\nGrab your friends\, warm up those vocals\, and make Mondays something to look forward to.
URL:https://bravamagazine.com/event/piano-fondues-monday-happy-hour-singalong/
LOCATION:Garver Feed Mill\, 3241 Garver Green\, Madison\, WI\, 53407\, United States
CATEGORIES:Community Event,Live Music
ATTACH;FMTTYPE=image/jpeg:https://bravamagazine.com/wp-content/uploads/2026/04/Piano_Fondue_Happy_Hour_2026-Facebook-Cover.jpg
ORGANIZER;CN="Garver Events":MAILTO:events@garverevents.com
END:VEVENT
BEGIN:VEVENT
DTSTART;TZID=America/Chicago:20260423T180000
DTEND;TZID=America/Chicago:20260423T200000
DTSTAMP:20260423T015932
CREATED:20260318T212101Z
LAST-MODIFIED:20260318T212101Z
UID:194835-1776967200-1776974400@bravamagazine.com
SUMMARY:Bowl For Kids' Sake
DESCRIPTION:Big Brothers Big Sisters of Dane County’s Bowl for Kids’ Sake (BFKS) is back — and this year\, we’re celebrating 60 years of impact with a throwback twist! \nOur Decades theme invites you to pick your favorite era\, dress the part\, and bowl through the decades as we honor six decades of mentorship and community support. Whether you’re rocking the swinging ‘60s\, the trends of today\, or any iconic era in between\, it’s going to be a celebration you won’t want to miss. \nBowl for Kids’ Sake is a multi-night bowling fundraiser filled with prizes\, games\, music\, and friendly competition. Community members and local companies form teams of 4–6 people to raise funds supporting our mission\, then celebrate their success with a fun night of bowling — all while making a real difference for kids in our community.
URL:https://bravamagazine.com/event/bowl-for-kids-sake-2/
LOCATION:Bowl-a-vard Lanes\, 2121 East Springs Drive\, Madison\, WI\, 53704\, United States
ATTACH;FMTTYPE=image/png:https://bravamagazine.com/wp-content/uploads/2026/03/BFKS-60-Color-Logo-1.png
ORGANIZER;CN="Big Brothers Big Sisters":MAILTO:ibaumberger@bbbsmadison.org
END:VEVENT
BEGIN:VEVENT
DTSTART;TZID=America/Chicago:20260423T190000
DTEND;TZID=America/Chicago:20260423T210000
DTSTAMP:20260423T015932
CREATED:20260409T102540Z
LAST-MODIFIED:20260409T102540Z
UID:207537-1776970800-1776978000@bravamagazine.com
SUMMARY:Jack Norton
DESCRIPTION:Travel back in time with Emmy Award winning songwriter Jack Norton for a concert of vaudeville blues and old-time music. Oddball ukulele legend Tiny Tim hailed Norton as “the greatest entertainer I have ever seen!” The Minneapolis Star Tribune called Jack “one of the most entertaining acoustic musicians in the Midwest.” His performances are an authentic throwback to a simpler time and bygone era.
URL:https://bravamagazine.com/event/jack-norton/
LOCATION:Minocqua Brewing Company\, 2927 East Washington Avenue\, Madison\, WI\, 53704\, United States
ATTACH;FMTTYPE=image/jpeg:https://bravamagazine.com/wp-content/uploads/2026/04/Jack-Norton.jpeg
ORGANIZER;CN="Minocqua Brewing Company":MAILTO:madisonmanager@minocquabrewingcompany.com
END:VEVENT
END:VCALENDAR